BEGIN:VCALENDAR
VERSION:2.0
CREATED:20260423T133418Z
PRODID:-//The Joint Corp./Equisolve Calendar v1.0//EN
METHOD:PUBLISH
BEGIN:VEVENT
UID:7a10f7fc8dc2ac92b62a791d066e670f
DTSTAMP:20260424T123130Z
DTSTART:20260507T210000Z
DTEND:20260507T220000Z
SUMMARY:Q1 2026 Results Conference Call
DESCRIPTION:Q1 2026 Results Conference Call\n\nDate: May 7\, 2026 • 5:00pm EDT\n\nWebcast: https://edge.media-server.com/mmc/p/cxpieegc/
END:VEVENT
END:VCALENDAR
